Package: consensusSeekeR Version: 1.36.0 Command: chmod a+r consensusSeekeR -R && E:\biocbuild\bbs-3.21-bioc\R\bin\R.exe CMD build --keep-empty-dirs --no-resave-data consensusSeekeR StartedAt: 2025-08-14 18:13:52 -0400 (Thu, 14 Aug 2025) EndedAt: 2025-08-14 18:16:04 -0400 (Thu, 14 Aug 2025) EllapsedTime: 132.1 seconds RetCode: 0 Status: OK PackageFile: consensusSeekeR_1.36.0.tar.gz PackageFileSize: 739.5 KiB