Package: consensusSeekeR Version: 1.36.0 Command: rm -rf consensusSeekeR.buildbin-libdir && mkdir consensusSeekeR.buildbin-libdir && E:\biocbuild\bbs-3.21-bioc\R\bin\R.exe CMD INSTALL --build --library=consensusSeekeR.buildbin-libdir consensusSeekeR_1.36.0.tar.gz StartedAt: 2025-08-15 09:03:05 -0400 (Fri, 15 Aug 2025) EndedAt: 2025-08-15 09:04:24 -0400 (Fri, 15 Aug 2025) EllapsedTime: 78.3 seconds RetCode: 0 Status: OK PackageFile: consensusSeekeR_1.36.0.zip PackageFileSize: 627 KiB