Package: consensusOV Version: 1.32.0 Command: /home/biocbuild/R/R/bin/R CMD INSTALL consensusOV StartedAt: 2025-11-20 22:48:12 -0000 (Thu, 20 Nov 2025) EndedAt: 2025-11-20 22:49:16 -0000 (Thu, 20 Nov 2025) EllapsedTime: 64.4 seconds RetCode: 0 Status: OK