Package: consensusOV Version: 1.32.0 Command: /home/biocbuild/R/R/bin/R CMD check --install=check:consensusOV.install-out.txt --library=/home/biocbuild/R/R/site-library --no-vignettes --timings consensusOV_1.32.0.tar.gz StartedAt: 2025-11-21 09:20:56 -0000 (Fri, 21 Nov 2025) EndedAt: 2025-11-21 09:27:16 -0000 (Fri, 21 Nov 2025) EllapsedTime: 380.3 seconds RetCode: 0 Status: OK CheckDir: consensusOV.Rcheck Warnings: 0