Package: consensusOV Version: 1.32.0 Command: /home/biocbuild/R/R/bin/R CMD build --keep-empty-dirs --no-resave-data consensusOV StartedAt: 2025-11-21 01:24:21 -0000 (Fri, 21 Nov 2025) EndedAt: 2025-11-21 01:26:57 -0000 (Fri, 21 Nov 2025) EllapsedTime: 156.1 seconds RetCode: 0 Status: OK PackageFile: consensusOV_1.32.0.tar.gz PackageFileSize: 3.226 MiB