Package: consensusOV Version: 1.32.0 Command: /Library/Frameworks/R.framework/Resources/bin/R CMD INSTALL consensusOV StartedAt: 2025-11-20 17:28:59 -0500 (Thu, 20 Nov 2025) EndedAt: 2025-11-20 17:30:40 -0500 (Thu, 20 Nov 2025) EllapsedTime: 101.0 seconds RetCode: 0 Status: OK