Package: consensusOV Version: 1.32.0 Command: /Library/Frameworks/R.framework/Resources/bin/R CMD check --install=check:consensusOV.install-out.txt --library=/Library/Frameworks/R.framework/Resources/library --no-vignettes --timings consensusOV_1.32.0.tar.gz StartedAt: 2025-11-21 03:12:31 -0500 (Fri, 21 Nov 2025) EndedAt: 2025-11-21 03:22:49 -0500 (Fri, 21 Nov 2025) EllapsedTime: 618.0 seconds RetCode: 0 Status: OK CheckDir: consensusOV.Rcheck Warnings: 0