Package: consensusOV Version: 1.32.0 Command: /Library/Frameworks/R.framework/Resources/bin/R CMD build --keep-empty-dirs --no-resave-data consensusOV StartedAt: 2025-11-20 19:00:49 -0500 (Thu, 20 Nov 2025) EndedAt: 2025-11-20 19:05:15 -0500 (Thu, 20 Nov 2025) EllapsedTime: 266.1 seconds RetCode: 0 Status: OK PackageFile: consensusOV_1.32.0.tar.gz PackageFileSize: 3.212 MiB