Package: consensusDE Version: 1.27.0 Command: F:\biocbuild\bbs-3.22-bioc\R\bin\R.exe CMD check --no-multiarch --install=check:consensusDE.install-out.txt --library=F:\biocbuild\bbs-3.22-bioc\R\library --no-vignettes --timings consensusDE_1.27.0.tar.gz StartedAt: 2025-08-15 01:55:42 -0400 (Fri, 15 Aug 2025) EndedAt: 2025-08-15 02:02:18 -0400 (Fri, 15 Aug 2025) EllapsedTime: 396.6 seconds RetCode: 0 Status: OK CheckDir: consensusDE.Rcheck Warnings: 0