Package: consensusDE Version: 1.28.0 Command: /home/biocbuild/bbs-3.22-bioc/R/bin/R CMD INSTALL consensusDE StartedAt: 2025-11-10 16:01:05 -0500 (Mon, 10 Nov 2025) EndedAt: 2025-11-10 16:01:54 -0500 (Mon, 10 Nov 2025) EllapsedTime: 48.2 seconds RetCode: 0 Status: OK