Package: consensusDE Version: 1.28.0 Command: /home/biocbuild/bbs-3.22-bioc/R/bin/R CMD check --install=check:consensusDE.install-out.txt --library=/home/biocbuild/bbs-3.22-bioc/R/site-library --timings consensusDE_1.28.0.tar.gz StartedAt: 2025-11-09 22:33:05 -0500 (Sun, 09 Nov 2025) EndedAt: 2025-11-09 22:39:20 -0500 (Sun, 09 Nov 2025) EllapsedTime: 374.4 seconds RetCode: 0 Status: OK CheckDir: consensusDE.Rcheck Warnings: 0