Package: consensusDE Version: 1.28.0 Command: /Library/Frameworks/R.framework/Resources/bin/R CMD build --keep-empty-dirs --no-resave-data consensusDE StartedAt: 2025-11-02 16:37:56 -0500 (Sun, 02 Nov 2025) EndedAt: 2025-11-02 16:39:35 -0500 (Sun, 02 Nov 2025) EllapsedTime: 99.2 seconds RetCode: 0 Status: OK PackageFile: consensusDE_1.28.0.tar.gz PackageFileSize: 1.043 MiB