Package: consensusDE Version: 1.28.0 Command: /Library/Frameworks/R.framework/Resources/bin/R CMD INSTALL consensusDE StartedAt: 2025-11-09 15:28:16 -0500 (Sun, 09 Nov 2025) EndedAt: 2025-11-09 15:28:36 -0500 (Sun, 09 Nov 2025) EllapsedTime: 20.1 seconds RetCode: 0 Status: OK