Package: consensus Version: 1.26.0 Command: /home/biocbuild/bbs-3.21-bioc/R/bin/R CMD INSTALL consensus StartedAt: 2025-10-15 15:09:56 -0400 (Wed, 15 Oct 2025) EndedAt: 2025-10-15 15:10:02 -0400 (Wed, 15 Oct 2025) EllapsedTime: 6.1 seconds RetCode: 0 Status: OK