Package: consensus Version: 1.26.0 Command: /home/biocbuild/bbs-3.21-bioc/R/bin/R CMD build --keep-empty-dirs --no-resave-data consensus StartedAt: 2025-10-15 16:53:33 -0400 (Wed, 15 Oct 2025) EndedAt: 2025-10-15 16:53:40 -0400 (Wed, 15 Oct 2025) EllapsedTime: 7.0 seconds RetCode: 0 Status: OK PackageFile: consensus_1.26.0.tar.gz PackageFileSize: 970.5 KiB