Package: consensus Version: 1.28.0 Command: /Library/Frameworks/R.framework/Resources/bin/R CMD INSTALL consensus StartedAt: 2025-10-31 15:21:36 -0400 (Fri, 31 Oct 2025) EndedAt: 2025-10-31 15:22:05 -0400 (Fri, 31 Oct 2025) EllapsedTime: 29.1 seconds RetCode: 0 Status: OK