Package: consensus Version: 1.28.0 Command: /Library/Frameworks/R.framework/Resources/bin/R CMD build --keep-empty-dirs --no-resave-data consensus StartedAt: 2025-10-31 16:38:37 -0400 (Fri, 31 Oct 2025) EndedAt: 2025-10-31 16:38:49 -0400 (Fri, 31 Oct 2025) EllapsedTime: 12.5 seconds RetCode: 0 Status: OK PackageFile: consensus_1.28.0.tar.gz PackageFileSize: 970.7 KiB