Package: consICA Version: 2.7.2 Command: /home/biocbuild/R/R/bin/R CMD check --install=check:consICA.install-out.txt --library=/home/biocbuild/R/R/site-library --no-vignettes --timings consICA_2.7.2.tar.gz StartedAt: 2025-10-21 06:48:17 -0000 (Tue, 21 Oct 2025) EndedAt: 2025-10-21 07:28:17 -0000 (Tue, 21 Oct 2025) EllapsedTime: 2400.6 seconds RetCode: None Status: TIMEOUT CheckDir: consICA.Rcheck Warnings: NA