Package: consICA Version: 2.8.0 Command: /home/biocbuild/bbs-3.22-bioc/R/bin/R CMD check --install=check:consICA.install-out.txt --library=/home/biocbuild/bbs-3.22-bioc/R/site-library --timings consICA_2.8.0.tar.gz StartedAt: 2025-11-06 22:20:17 -0500 (Thu, 06 Nov 2025) EndedAt: 2025-11-06 22:25:53 -0500 (Thu, 06 Nov 2025) EllapsedTime: 336.3 seconds RetCode: 0 Status: OK CheckDir: consICA.Rcheck Warnings: 0