Package: consICA Version: 2.8.0 Command: /Library/Frameworks/R.framework/Resources/bin/R CMD INSTALL consICA StartedAt: 2025-11-09 15:20:52 -0500 (Sun, 09 Nov 2025) EndedAt: 2025-11-09 15:21:06 -0500 (Sun, 09 Nov 2025) EllapsedTime: 13.6 seconds RetCode: 0 Status: OK