Package: condiments Version: 1.18.0 Command: /home/biocbuild/R/R/bin/R CMD build --keep-empty-dirs --no-resave-data condiments StartedAt: 2025-11-18 00:41:47 -0000 (Tue, 18 Nov 2025) EndedAt: 2025-11-18 00:46:13 -0000 (Tue, 18 Nov 2025) EllapsedTime: 266.1 seconds RetCode: 0 Status: OK PackageFile: condiments_1.18.0.tar.gz PackageFileSize: 1.391 MiB