Package: condiments Version: 1.16.0 Command: /home/biocbuild/bbs-3.21-bioc/R/bin/R CMD check --install=check:condiments.install-out.txt --library=/home/biocbuild/bbs-3.21-bioc/R/site-library --timings condiments_1.16.0.tar.gz StartedAt: 2025-10-08 21:58:12 -0400 (Wed, 08 Oct 2025) EndedAt: 2025-10-08 22:07:39 -0400 (Wed, 08 Oct 2025) EllapsedTime: 566.8 seconds RetCode: 0 Status: OK CheckDir: condiments.Rcheck Warnings: 0