Package: condiments Version: 1.16.0 Command: /home/biocbuild/bbs-3.21-bioc/R/bin/R CMD build --keep-empty-dirs --no-resave-data condiments StartedAt: 2025-10-08 16:53:59 -0400 (Wed, 08 Oct 2025) EndedAt: 2025-10-08 16:57:10 -0400 (Wed, 08 Oct 2025) EllapsedTime: 191.2 seconds RetCode: 0 Status: OK PackageFile: condiments_1.16.0.tar.gz PackageFileSize: 1.999 MiB