Package: condiments Version: 1.18.0 Command: /Library/Frameworks/R.framework/Resources/bin/R CMD check --install=check:condiments.install-out.txt --library=/Library/Frameworks/R.framework/Resources/library --no-vignettes --timings condiments_1.18.0.tar.gz StartedAt: 2025-11-09 19:09:41 -0500 (Sun, 09 Nov 2025) EndedAt: 2025-11-09 19:12:12 -0500 (Sun, 09 Nov 2025) EllapsedTime: 150.8 seconds RetCode: 0 Status: OK CheckDir: condiments.Rcheck Warnings: 0