Package: condiments Version: 1.18.0 Command: /Library/Frameworks/R.framework/Resources/bin/R CMD build --keep-empty-dirs --no-resave-data condiments StartedAt: 2025-11-10 16:00:44 -0500 (Mon, 10 Nov 2025) EndedAt: 2025-11-10 16:02:03 -0500 (Mon, 10 Nov 2025) EllapsedTime: 78.9 seconds RetCode: 0 Status: OK PackageFile: condiments_1.18.0.tar.gz PackageFileSize: 2.251 MiB