Package: condiments Version: 1.18.0 Command: rm -rf condiments.buildbin-libdir && mkdir condiments.buildbin-libdir && /Users/biocbuild/BBS/utils/build-universal.sh condiments_1.18.0.tar.gz /Library/Frameworks/R.framework/Resources/bin/R condiments.buildbin-libdir StartedAt: 2025-11-10 23:15:50 -0500 (Mon, 10 Nov 2025) EndedAt: 2025-11-10 23:16:05 -0500 (Mon, 10 Nov 2025) EllapsedTime: 15.3 seconds RetCode: 0 Status: OK PackageFile: condiments_1.18.0.tgz PackageFileSize: 2.343 MiB