Package: condiments Version: 1.16.0 Command: /Library/Frameworks/R.framework/Resources/bin/R CMD INSTALL condiments StartedAt: 2025-09-29 18:27:00 -0400 (Mon, 29 Sep 2025) EndedAt: 2025-09-29 18:27:42 -0400 (Mon, 29 Sep 2025) EllapsedTime: 41.7 seconds RetCode: 0 Status: OK