Package: concordexR Version: 1.10.0 Command: /home/biocbuild/bbs-3.22-bioc/R/bin/R CMD INSTALL concordexR StartedAt: 2025-11-17 17:35:39 -0500 (Mon, 17 Nov 2025) EndedAt: 2025-11-17 17:36:08 -0500 (Mon, 17 Nov 2025) EllapsedTime: 29.3 seconds RetCode: 0 Status: OK