Package: concordexR Version: 1.10.0 Command: /home/biocbuild/bbs-3.22-bioc/R/bin/R CMD check --install=check:concordexR.install-out.txt --library=/home/biocbuild/bbs-3.22-bioc/R/site-library --timings concordexR_1.10.0.tar.gz StartedAt: 2025-11-20 23:08:41 -0500 (Thu, 20 Nov 2025) EndedAt: 2025-11-20 23:13:26 -0500 (Thu, 20 Nov 2025) EllapsedTime: 285.3 seconds RetCode: 0 Status: WARNINGS CheckDir: concordexR.Rcheck Warnings: 1