Package: concordexR Version: 1.10.0 Command: /Library/Frameworks/R.framework/Resources/bin/R CMD INSTALL concordexR StartedAt: 2025-11-17 17:51:16 -0500 (Mon, 17 Nov 2025) EndedAt: 2025-11-17 17:52:08 -0500 (Mon, 17 Nov 2025) EllapsedTime: 52.6 seconds RetCode: 0 Status: OK