Package: concordexR Version: 1.10.0 Command: /Library/Frameworks/R.framework/Resources/bin/R CMD check --install=check:concordexR.install-out.txt --library=/Library/Frameworks/R.framework/Resources/library --no-vignettes --timings concordexR_1.10.0.tar.gz StartedAt: 2025-11-21 03:10:46 -0500 (Fri, 21 Nov 2025) EndedAt: 2025-11-21 03:18:21 -0500 (Fri, 21 Nov 2025) EllapsedTime: 454.2 seconds RetCode: 0 Status: WARNINGS CheckDir: concordexR.Rcheck Warnings: 1