Package: concordexR Version: 1.10.0 Command: /Library/Frameworks/R.framework/Resources/bin/R CMD build --keep-empty-dirs --no-resave-data concordexR StartedAt: 2025-11-17 21:23:56 -0500 (Mon, 17 Nov 2025) EndedAt: 2025-11-17 21:26:46 -0500 (Mon, 17 Nov 2025) EllapsedTime: 170.6 seconds RetCode: 0 Status: OK PackageFile: concordexR_1.10.0.tar.gz PackageFileSize: 1.468 MiB