Package: concordexR Version: 1.10.0 Command: /Library/Frameworks/R.framework/Resources/bin/R CMD build --keep-empty-dirs --no-resave-data concordexR StartedAt: 2025-11-03 16:33:43 -0500 (Mon, 03 Nov 2025) EndedAt: 2025-11-03 16:35:14 -0500 (Mon, 03 Nov 2025) EllapsedTime: 91.3 seconds RetCode: 0 Status: OK PackageFile: concordexR_1.10.0.tar.gz PackageFileSize: 1.469 MiB