Package: concordexR Version: 1.10.0 Command: rm -rf concordexR.buildbin-libdir && mkdir concordexR.buildbin-libdir && /Users/biocbuild/BBS/utils/build-universal.sh concordexR_1.10.0.tar.gz /Library/Frameworks/R.framework/Resources/bin/R concordexR.buildbin-libdir StartedAt: 2025-11-04 01:34:07 -0500 (Tue, 04 Nov 2025) EndedAt: 2025-11-04 01:34:43 -0500 (Tue, 04 Nov 2025) EllapsedTime: 35.8 seconds RetCode: 0 Status: OK PackageFile: concordexR_1.10.0.tgz PackageFileSize: 1.496 MiB