Package: compSPOT Version: 1.8.0 Command: /Library/Frameworks/R.framework/Resources/bin/R CMD check --install=check:compSPOT.install-out.txt --library=/Library/Frameworks/R.framework/Resources/library --no-vignettes --timings compSPOT_1.8.0.tar.gz StartedAt: 2025-11-06 19:07:06 -0500 (Thu, 06 Nov 2025) EndedAt: 2025-11-06 19:08:28 -0500 (Thu, 06 Nov 2025) EllapsedTime: 82.0 seconds RetCode: 0 Status: OK CheckDir: compSPOT.Rcheck Warnings: 0