Package: combi Version: 1.20.0 Command: /Library/Frameworks/R.framework/Resources/bin/R CMD INSTALL combi StartedAt: 2025-09-29 16:28:33 -0400 (Mon, 29 Sep 2025) EndedAt: 2025-09-29 16:29:46 -0400 (Mon, 29 Sep 2025) EllapsedTime: 72.4 seconds RetCode: 0 Status: OK