Package: cola Version: 2.16.0 Command: /home/biocbuild/bbs-3.22-bioc/R/bin/R CMD INSTALL cola StartedAt: 2025-11-06 15:14:40 -0500 (Thu, 06 Nov 2025) EndedAt: 2025-11-06 15:15:11 -0500 (Thu, 06 Nov 2025) EllapsedTime: 31.3 seconds RetCode: 0 Status: OK