Package: cola Version: 2.16.0 Command: /home/biocbuild/bbs-3.22-bioc/R/bin/R CMD check --install=check:cola.install-out.txt --library=/home/biocbuild/bbs-3.22-bioc/R/site-library --timings cola_2.16.0.tar.gz StartedAt: 2025-11-06 22:15:29 -0500 (Thu, 06 Nov 2025) EndedAt: 2025-11-06 22:18:24 -0500 (Thu, 06 Nov 2025) EllapsedTime: 175.1 seconds RetCode: 0 Status: OK CheckDir: cola.Rcheck Warnings: 0