Package: cola Version: 2.16.0 Command: /home/biocbuild/bbs-3.22-bioc/R/bin/R CMD build --keep-empty-dirs --no-resave-data --md5 cola StartedAt: 2025-11-06 16:57:46 -0500 (Thu, 06 Nov 2025) EndedAt: 2025-11-06 16:58:19 -0500 (Thu, 06 Nov 2025) EllapsedTime: 33.0 seconds RetCode: 0 Status: OK PackageFile: cola_2.16.0.tar.gz PackageFileSize: 3.663 MiB