Package: cogeqc Version: 1.12.0 Command: rm -rf cogeqc.buildbin-libdir && mkdir cogeqc.buildbin-libdir && E:\biocbuild\bbs-3.21-bioc\R\bin\R.exe CMD INSTALL --build --library=cogeqc.buildbin-libdir cogeqc_1.12.0.tar.gz StartedAt: 2025-08-15 09:02:01 -0400 (Fri, 15 Aug 2025) EndedAt: 2025-08-15 09:02:34 -0400 (Fri, 15 Aug 2025) EllapsedTime: 33.9 seconds RetCode: 0 Status: OK PackageFile: cogeqc_1.12.0.zip PackageFileSize: 2.431 MiB