Package: cogeqc Version: 1.12.0 Command: /home/biocbuild/bbs-3.21-bioc/R/bin/R CMD check --install=check:cogeqc.install-out.txt --library=/home/biocbuild/bbs-3.21-bioc/R/site-library --timings cogeqc_1.12.0.tar.gz StartedAt: 2025-10-01 21:59:37 -0400 (Wed, 01 Oct 2025) EndedAt: 2025-10-01 22:03:42 -0400 (Wed, 01 Oct 2025) EllapsedTime: 244.3 seconds RetCode: 0 Status: OK CheckDir: cogeqc.Rcheck Warnings: 0