Package: cogeqc Version: 1.12.0 Command: /home/biocbuild/bbs-3.21-bioc/R/bin/R CMD build --keep-empty-dirs --no-resave-data cogeqc StartedAt: 2025-10-01 16:53:54 -0400 (Wed, 01 Oct 2025) EndedAt: 2025-10-01 16:55:31 -0400 (Wed, 01 Oct 2025) EllapsedTime: 97.1 seconds RetCode: 0 Status: OK PackageFile: cogeqc_1.12.0.tar.gz PackageFileSize: 3.205 MiB