Package: cogeqc Version: 1.12.0 Command: /Library/Frameworks/R.framework/Resources/bin/R CMD INSTALL cogeqc StartedAt: 2025-04-21 15:27:10 -0400 (Mon, 21 Apr 2025) EndedAt: 2025-04-21 15:27:30 -0400 (Mon, 21 Apr 2025) EllapsedTime: 19.6 seconds RetCode: 0 Status: OK