Package: cogeqc Version: 1.12.0 Command: /Library/Frameworks/R.framework/Resources/bin/R CMD build --keep-empty-dirs --no-resave-data cogeqc StartedAt: 2025-04-21 16:21:26 -0400 (Mon, 21 Apr 2025) EndedAt: 2025-04-21 16:23:12 -0400 (Mon, 21 Apr 2025) EllapsedTime: 106.0 seconds RetCode: 0 Status: OK PackageFile: cogeqc_1.12.0.tar.gz PackageFileSize: 3.326 MiB