Package: cogeqc Version: 1.12.0 Command: /Library/Frameworks/R.framework/Resources/bin/R CMD INSTALL cogeqc StartedAt: 2025-09-29 16:00:36 -0400 (Mon, 29 Sep 2025) EndedAt: 2025-09-29 16:00:55 -0400 (Mon, 29 Sep 2025) EllapsedTime: 18.8 seconds RetCode: 0 Status: OK