Package: cogeqc Version: 1.12.0 Command: /Library/Frameworks/R.framework/Resources/bin/R CMD check --install=check:cogeqc.install-out.txt --library=/Library/Frameworks/R.framework/Resources/library --no-vignettes --timings cogeqc_1.12.0.tar.gz StartedAt: 2025-09-30 16:44:28 -0400 (Tue, 30 Sep 2025) EndedAt: 2025-09-30 16:47:44 -0400 (Tue, 30 Sep 2025) EllapsedTime: 196.1 seconds RetCode: 0 Status: OK CheckDir: cogeqc.Rcheck Warnings: 0