Package: cogeqc Version: 1.12.0 Command: /Library/Frameworks/R.framework/Resources/bin/R CMD build --keep-empty-dirs --no-resave-data cogeqc StartedAt: 2025-09-29 21:51:38 -0400 (Mon, 29 Sep 2025) EndedAt: 2025-09-29 21:53:42 -0400 (Mon, 29 Sep 2025) EllapsedTime: 123.7 seconds RetCode: 0 Status: OK PackageFile: cogeqc_1.12.0.tar.gz PackageFileSize: 3.34 MiB