Package: cogeqc Version: 1.12.0 Command: rm -rf cogeqc.buildbin-libdir && mkdir cogeqc.buildbin-libdir && /Users/biocbuild/BBS/utils/build-universal.sh cogeqc_1.12.0.tar.gz /Library/Frameworks/R.framework/Resources/bin/R cogeqc.buildbin-libdir StartedAt: 2025-10-01 17:55:33 -0400 (Wed, 01 Oct 2025) EndedAt: 2025-10-01 17:55:53 -0400 (Wed, 01 Oct 2025) EllapsedTime: 20.4 seconds RetCode: 0 Status: OK PackageFile: cogeqc_1.12.0.tgz PackageFileSize: 3.407 MiB