Package: cogena Version: 1.42.0 Command: /Library/Frameworks/R.framework/Resources/bin/R CMD build --keep-empty-dirs --no-resave-data cogena StartedAt: 2025-09-25 18:01:31 -0400 (Thu, 25 Sep 2025) EndedAt: 2025-09-25 18:08:06 -0400 (Thu, 25 Sep 2025) EllapsedTime: 395.0 seconds RetCode: 0 Status: OK PackageFile: cogena_1.42.0.tar.gz PackageFileSize: 7.508 MiB