Package: coRdon Version: 1.26.0 Command: /home/biocbuild/bbs-3.21-bioc/R/bin/R CMD check --install=check:coRdon.install-out.txt --library=/home/biocbuild/bbs-3.21-bioc/R/site-library --timings coRdon_1.26.0.tar.gz StartedAt: 2025-10-15 22:01:51 -0400 (Wed, 15 Oct 2025) EndedAt: 2025-10-15 22:04:16 -0400 (Wed, 15 Oct 2025) EllapsedTime: 145.2 seconds RetCode: 0 Status: OK CheckDir: coRdon.Rcheck Warnings: 0